BEGIN:VCALENDAR
METHOD:PUBLISH
VERSION:2.0
PRODID:-//hacksw/handcal//NONSGML v1.0//EN
X-WR-TIMEZONE:Australia/Melbourne
CALSCALE:GREGORIAN
BEGIN:VEVENT
DTSTART;TZID=Australia/Melbourne:20260513T190000
DTEND;TZID=Australia/Melbourne:20260513T220000
UID:14110195976692110212AA5B2458348163527548994692110212AA6F98967458
DTSTAMP:20260420T124039
LOCATION:Veneto Club, Bulleen
DESCRIPTION:AROCA Victoria Club Night  Veneto Club, Bulleen Wednesday 13th
  May 7:00 pm â€“ 10:00 pm  The venue for Club Night is theÂ Veneto ClubÂ â
 €“ 191 Bulleen Road, Bulleen. Join us at Club Night for the latest news on
  Club events and general business followed by a social evening with typica
 l Alfisti camaraderie. Guest Speaker TBA We look forward to seeing you at 
 Club Night.
URL;VALUE=URI:http://alfaclubvic.org.au/events/view.php?id=141101959766921
 10212AA5B2458348163527548994692110212AA6F98967458
SUMMARY:AROCA Victoria - Club Night
END:VEVENT
END:VCALENDAR
